BEGIN:VCALENDAR
VERSION:2.0
PRODID:-//Ocean City MD Property Management - ECPv5.12.3//NONSGML v1.0//EN
CALSCALE:GREGORIAN
METHOD:PUBLISH
X-WR-CALNAME:Ocean City MD Property Management
X-ORIGINAL-URL:https://ocmannproperties.com
X-WR-CALDESC:Events for Ocean City MD Property Management
BEGIN:VTIMEZONE
TZID:America/New_York
BEGIN:DAYLIGHT
TZOFFSETFROM:-0500
TZOFFSETTO:-0400
TZNAME:EDT
DTSTART:20170312T070000
END:DAYLIGHT
BEGIN:STANDARD
TZOFFSETFROM:-0400
TZOFFSETTO:-0500
TZNAME:EST
DTSTART:20171105T060000
END:STANDARD
END:VTIMEZONE
BEGIN:VEVENT
DTSTART;TZID=America/New_York:20170329T103000
DTEND;TZID=America/New_York:20170329T113000
DTSTAMP:20260425T140848
CREATED:20170112T090442Z
LAST-MODIFIED:20170118T173146Z
UID:2088661-1490783400-1490787000@ocmannproperties.com
SUMMARY:Exercise Class at the Ocean City Senior Center
DESCRIPTION:Enjoy this guided exercise class at the Ocean City Senior Center.
URL:https://ocmannproperties.com/event/exercise-class-at-the-ocean-city-senior-center-44/
END:VEVENT
END:VCALENDAR