BEGIN:VCALENDAR
VERSION:2.0
PRODID:-//Ocean City MD Property Management - ECPv5.12.3//NONSGML v1.0//EN
CALSCALE:GREGORIAN
METHOD:PUBLISH
X-WR-CALNAME:Ocean City MD Property Management
X-ORIGINAL-URL:https://ocmannproperties.com
X-WR-CALDESC:Events for Ocean City MD Property Management
BEGIN:VTIMEZONE
TZID:America/New_York
BEGIN:DAYLIGHT
TZOFFSETFROM:-0500
TZOFFSETTO:-0400
TZNAME:EDT
DTSTART:20170312T070000
END:DAYLIGHT
BEGIN:STANDARD
TZOFFSETFROM:-0400
TZOFFSETTO:-0500
TZNAME:EST
DTSTART:20171105T060000
END:STANDARD
END:VTIMEZONE
BEGIN:VEVENT
DTSTART;TZID=America/New_York:20170413T130000
DTEND;TZID=America/New_York:20170413T150000
DTSTAMP:20260425T140802
CREATED:20170413T205820Z
LAST-MODIFIED:20170413T205820Z
UID:2088996-1492088400-1492095600@ocmannproperties.com
SUMMARY:Exploring the World of Watercolor Class
DESCRIPTION:Learn to use your creativity to express yourself through this exciting medium. We will cover different techniques\, ideas and tips. This workshop is great if you’re new to Watercolor or just want to re-energize your own skills. Paint from life or from a photograph by really looking at colors\, shapes\, shadows\, and light spots to create sparkle.\n \nInstructor: Kathy Bohs  \n\nCost: \n$20 Members\n$25 Non- Members
URL:https://ocmannproperties.com/event/exploring-the-world-of-watercolor-class-2/
END:VEVENT
END:VCALENDAR