BEGIN:VCALENDAR
VERSION:2.0
PRODID:-//Ocean City MD Property Management - ECPv5.12.3//NONSGML v1.0//EN
CALSCALE:GREGORIAN
METHOD:PUBLISH
X-WR-CALNAME:Ocean City MD Property Management
X-ORIGINAL-URL:https://ocmannproperties.com
X-WR-CALDESC:Events for Ocean City MD Property Management
BEGIN:VTIMEZONE
TZID:America/New_York
BEGIN:DAYLIGHT
TZOFFSETFROM:-0500
TZOFFSETTO:-0400
TZNAME:EDT
DTSTART:20210314T070000
END:DAYLIGHT
BEGIN:STANDARD
TZOFFSETFROM:-0400
TZOFFSETTO:-0500
TZNAME:EST
DTSTART:20211107T060000
END:STANDARD
END:VTIMEZONE
BEGIN:VEVENT
DTSTART;TZID=America/New_York:20210915T140000
DTEND;TZID=America/New_York:20210915T200000
DTSTAMP:20260423T154135
CREATED:20210915T210226Z
LAST-MODIFIED:20210915T210226Z
UID:2096750-1631714400-1631736000@ocmannproperties.com
SUMMARY:Fall In To Cash
DESCRIPTION:Ten Club Ocean members actively playing with their card will be selected each hour to drop the puck on the board to win FREE PLAY plus a finalist entry for $10\,000 CASH! \nGRAND PRIZE DRAWING: SUNDAY\, SEPTEMBER 26 · 9PMTen finalists will be drawn from all entries to drop the puck and reveal their prize. \n\nWin FREE PLAY or land on CASH to win $10\,000 INSTANTLY! 
URL:https://ocmannproperties.com/event/fall-in-to-cash-2/
END:VEVENT
END:VCALENDAR