BEGIN:VCALENDAR
VERSION:2.0
PRODID:-//Ocean City MD Property Management - ECPv5.12.3//NONSGML v1.0//EN
CALSCALE:GREGORIAN
METHOD:PUBLISH
X-WR-CALNAME:Ocean City MD Property Management
X-ORIGINAL-URL:https://ocmannproperties.com
X-WR-CALDESC:Events for Ocean City MD Property Management
BEGIN:VTIMEZONE
TZID:America/New_York
BEGIN:DAYLIGHT
TZOFFSETFROM:-0500
TZOFFSETTO:-0400
TZNAME:EDT
DTSTART:20180311T070000
END:DAYLIGHT
BEGIN:STANDARD
TZOFFSETFROM:-0400
TZOFFSETTO:-0500
TZNAME:EST
DTSTART:20181104T060000
END:STANDARD
END:VTIMEZONE
BEGIN:VEVENT
DTSTART;TZID=America/New_York:20180918T150000
DTEND;TZID=America/New_York:20180918T180000
DTSTAMP:20260424T063157
CREATED:20180918T090319Z
LAST-MODIFIED:20180918T090319Z
UID:2093718-1537282800-1537293600@ocmannproperties.com
SUMMARY:Family Time
DESCRIPTION:Join the Worcester County Branch Library every Tuesday for Family Time!  Enjoy activities\, crafts and books all about building things! \n 
URL:https://ocmannproperties.com/event/family-time/
END:VEVENT
END:VCALENDAR