BEGIN:VCALENDAR
VERSION:2.0
PRODID:-//Ocean City MD Property Management - ECPv5.12.3//NONSGML v1.0//EN
CALSCALE:GREGORIAN
METHOD:PUBLISH
X-WR-CALNAME:Ocean City MD Property Management
X-ORIGINAL-URL:https://ocmannproperties.com
X-WR-CALDESC:Events for Ocean City MD Property Management
BEGIN:VTIMEZONE
TZID:America/New_York
BEGIN:DAYLIGHT
TZOFFSETFROM:-0500
TZOFFSETTO:-0400
TZNAME:EDT
DTSTART:20200308T070000
END:DAYLIGHT
BEGIN:STANDARD
TZOFFSETFROM:-0400
TZOFFSETTO:-0500
TZNAME:EST
DTSTART:20201101T060000
END:STANDARD
END:VTIMEZONE
BEGIN:VEVENT
DTSTART;VALUE=DATE:20200120
DTEND;VALUE=DATE:20200121
DTSTAMP:20260423T010330
CREATED:20200120T205820Z
LAST-MODIFIED:20200120T205820Z
UID:2094726-1579478400-1579564799@ocmannproperties.com
SUMMARY:Fee Free Day at National Parks: Assateague
DESCRIPTION:In honor of the Birthday of Martin Luther King\, Jr.\, National Park Service sites planned free admission for everyone on Monday\, January 20\, 2020\, as the first fee free day of the year. 
URL:https://ocmannproperties.com/event/fee-free-day-at-national-parks-assateague-2/
END:VEVENT
END:VCALENDAR