BEGIN:VCALENDAR
VERSION:2.0
PRODID:-//Ocean City MD Property Management - ECPv5.12.3//NONSGML v1.0//EN
CALSCALE:GREGORIAN
METHOD:PUBLISH
X-WR-CALNAME:Ocean City MD Property Management
X-ORIGINAL-URL:https://ocmannproperties.com
X-WR-CALDESC:Events for Ocean City MD Property Management
BEGIN:VTIMEZONE
TZID:America/New_York
BEGIN:DAYLIGHT
TZOFFSETFROM:-0500
TZOFFSETTO:-0400
TZNAME:EDT
DTSTART:20200308T070000
END:DAYLIGHT
BEGIN:STANDARD
TZOFFSETFROM:-0400
TZOFFSETTO:-0500
TZNAME:EST
DTSTART:20201101T060000
END:STANDARD
END:VTIMEZONE
BEGIN:VEVENT
DTSTART;TZID=America/New_York:20200403T170000
DTEND;TZID=America/New_York:20200403T190000
DTSTAMP:20260422T195141
CREATED:20200403T085935Z
LAST-MODIFIED:20200403T085935Z
UID:2094882-1585933200-1585940400@ocmannproperties.com
SUMMARY:First Friday Exhibit & Opening Reception
DESCRIPTION:The public is invited to the free opening reception from 5 to 7 p.m. to meet the artists and enjoy hors d’oeuvres.\n \nMore information is available at www.artleagueofoceancity.org or by calling 410-524-9433.\n \nThe Art League of Ocean City is a non-profit organization dedicated to bringing the visual arts to the community through education\, exhibits\, scholarship\, programs and community art projects. Financial support comes primarily through membership dues from individuals and corporate sponsors.
URL:https://ocmannproperties.com/event/first-friday-exhibit-opening-reception/
END:VEVENT
END:VCALENDAR