BEGIN:VCALENDAR
VERSION:2.0
PRODID:-//Ocean City MD Property Management - ECPv5.12.3//NONSGML v1.0//EN
CALSCALE:GREGORIAN
METHOD:PUBLISH
X-WR-CALNAME:Ocean City MD Property Management
X-ORIGINAL-URL:https://ocmannproperties.com
X-WR-CALDESC:Events for Ocean City MD Property Management
BEGIN:VTIMEZONE
TZID:America/New_York
BEGIN:DAYLIGHT
TZOFFSETFROM:-0500
TZOFFSETTO:-0400
TZNAME:EDT
DTSTART:20180311T070000
END:DAYLIGHT
BEGIN:STANDARD
TZOFFSETFROM:-0400
TZOFFSETTO:-0500
TZNAME:EST
DTSTART:20181104T060000
END:STANDARD
END:VTIMEZONE
BEGIN:VEVENT
DTSTART;TZID=America/New_York:20180927T170000
DTEND;TZID=America/New_York:20180927T210000
DTSTAMP:20260424T064205
CREATED:20180927T090018Z
LAST-MODIFIED:20180927T090018Z
UID:2093738-1538067600-1538082000@ocmannproperties.com
SUMMARY:Full Circle Duo Band
DESCRIPTION:Full Circle is a great combination of vocals for awesome harmonies – we have lots of fun and try to make sure everyone else does too! Come hear us at Seacrets Ocean City MD!
URL:https://ocmannproperties.com/event/full-circle-duo-band-6/
END:VEVENT
END:VCALENDAR