BEGIN:VCALENDAR
VERSION:2.0
PRODID:-//Ocean City MD Property Management - ECPv5.12.3//NONSGML v1.0//EN
CALSCALE:GREGORIAN
METHOD:PUBLISH
X-WR-CALNAME:Ocean City MD Property Management
X-ORIGINAL-URL:https://ocmannproperties.com
X-WR-CALDESC:Events for Ocean City MD Property Management
BEGIN:VTIMEZONE
TZID:America/New_York
BEGIN:DAYLIGHT
TZOFFSETFROM:-0500
TZOFFSETTO:-0400
TZNAME:EDT
DTSTART:20200308T070000
END:DAYLIGHT
BEGIN:STANDARD
TZOFFSETFROM:-0400
TZOFFSETTO:-0500
TZNAME:EST
DTSTART:20201101T060000
END:STANDARD
END:VTIMEZONE
BEGIN:VEVENT
DTSTART;TZID=America/New_York:20201119T160000
DTEND;TZID=America/New_York:20201119T200000
DTSTAMP:20260422T232838
CREATED:20201119T210026Z
LAST-MODIFIED:20201119T210026Z
UID:2095357-1605801600-1605816000@ocmannproperties.com
SUMMARY:Full Circle Duo Band Performing at Seacrets
DESCRIPTION:Full Circle is a great combination of vocals for awesome harmonies – we have lots of fun and try to make sure everyone else does too! Come hear us at Seacrets Ocean City MD!
URL:https://ocmannproperties.com/event/full-circle-duo-band-performing-at-seacrets-2/
END:VEVENT
END:VCALENDAR