BEGIN:VCALENDAR
VERSION:2.0
PRODID:-//Ocean City MD Property Management - ECPv5.12.3//NONSGML v1.0//EN
CALSCALE:GREGORIAN
METHOD:PUBLISH
X-WR-CALNAME:Ocean City MD Property Management
X-ORIGINAL-URL:https://ocmannproperties.com
X-WR-CALDESC:Events for Ocean City MD Property Management
BEGIN:VTIMEZONE
TZID:America/New_York
BEGIN:DAYLIGHT
TZOFFSETFROM:-0500
TZOFFSETTO:-0400
TZNAME:EDT
DTSTART:20210314T070000
END:DAYLIGHT
BEGIN:STANDARD
TZOFFSETFROM:-0400
TZOFFSETTO:-0500
TZNAME:EST
DTSTART:20211107T060000
END:STANDARD
END:VTIMEZONE
BEGIN:VEVENT
DTSTART;TZID=America/New_York:20210819T000000
DTEND;TZID=America/New_York:20210819T000000
DTSTAMP:20260421T002136
CREATED:20210819T090013Z
LAST-MODIFIED:20210819T090013Z
UID:2096689-1629331200-1629331200@ocmannproperties.com
SUMMARY:Funk Shue
DESCRIPTION:Funk Shué is a 4 piece funk machine based out of West OC\, bringing you the best of Funk\, Blues\, Rock & Reggae. Between their mind bending grooves\, heavenly voices\, and overall jamfest of a show\, they’re sure to leave you breathless.\n 
URL:https://ocmannproperties.com/event/funk-shue-2/
END:VEVENT
END:VCALENDAR