BEGIN:VCALENDAR
VERSION:2.0
PRODID:-//Ocean City MD Property Management - ECPv5.12.3//NONSGML v1.0//EN
CALSCALE:GREGORIAN
METHOD:PUBLISH
X-WR-CALNAME:Ocean City MD Property Management
X-ORIGINAL-URL:https://ocmannproperties.com
X-WR-CALDESC:Events for Ocean City MD Property Management
BEGIN:VTIMEZONE
TZID:America/New_York
BEGIN:DAYLIGHT
TZOFFSETFROM:-0500
TZOFFSETTO:-0400
TZNAME:EDT
DTSTART:20180311T070000
END:DAYLIGHT
BEGIN:STANDARD
TZOFFSETFROM:-0400
TZOFFSETTO:-0500
TZNAME:EST
DTSTART:20181104T060000
END:STANDARD
END:VTIMEZONE
BEGIN:VEVENT
DTSTART;TZID=America/New_York:20180202T064500
DTEND;TZID=America/New_York:20180202T084500
DTSTAMP:20260424T193328
CREATED:20180202T085933Z
LAST-MODIFIED:20180202T085933Z
UID:2089610-1517553900-1517561100@ocmannproperties.com
SUMMARY:Gladiator Dodgeball
DESCRIPTION:FALL * 121212 A\, B\, & C/ WINTER * 221212 B\, D \nCome out on Friday nights and play the new exciting game of\nGladiator Dodgeball. This game incorporates dodgeball\, flag football\, and\ncapture the flag. You can also enjoy pizza and ice cream during this exciting\nnight of play. \nWHO: Kids\, Grades 5 & 6 \nDATES:  \nSection A: September 8 \nSection B: October 6 \nSection C: November 3 \nWinter Section B: December 1 \nWinter Section D: February 2 \nDAYS: Fridays \nTIMES: 6:45 p.m. – 8:45 p.m. \nLOCALE: Northside Park Recreation Complex \nPRICE: Ocean City Resident $10.00/ Non-Resident $12.00 \nPROGRAM NOTES: Registration is mandatory and limited.\nParents are requested to be on site to pick up their children at 8:30 p.m. \n\nPROGRAM SUPERVISORS: Chris Clarke (Fall)\, Michael Grogan\n(Winter)
URL:https://ocmannproperties.com/event/gladiator-dodgeball/
END:VEVENT
END:VCALENDAR