BEGIN:VCALENDAR
VERSION:2.0
PRODID:-//Ocean City MD Property Management - ECPv5.12.3//NONSGML v1.0//EN
CALSCALE:GREGORIAN
METHOD:PUBLISH
X-WR-CALNAME:Ocean City MD Property Management
X-ORIGINAL-URL:https://ocmannproperties.com
X-WR-CALDESC:Events for Ocean City MD Property Management
BEGIN:VTIMEZONE
TZID:America/New_York
BEGIN:DAYLIGHT
TZOFFSETFROM:-0500
TZOFFSETTO:-0400
TZNAME:EDT
DTSTART:20190310T070000
END:DAYLIGHT
BEGIN:STANDARD
TZOFFSETFROM:-0400
TZOFFSETTO:-0500
TZNAME:EST
DTSTART:20191103T060000
END:STANDARD
END:VTIMEZONE
BEGIN:VEVENT
DTSTART;TZID=America/New_York:20190326T100000
DTEND;TZID=America/New_York:20190326T104500
DTSTAMP:20260423T201419
CREATED:20190326T090556Z
LAST-MODIFIED:20190326T090556Z
UID:2094114-1553594400-1553597100@ocmannproperties.com
SUMMARY:Hands on History
DESCRIPTION:Hands on History at the red doors community center is taught by Jen Backof. Children will explore topics and engage in activities in relations to American relations with the native Americans\, what happened at Roanoke\, talking about the colonial toys\, games\, and jobs. Students will compare how their lifestyles are different from our lifestyles today. 
URL:https://ocmannproperties.com/event/hands-on-history/
END:VEVENT
END:VCALENDAR