BEGIN:VCALENDAR
VERSION:2.0
PRODID:-//Ocean City MD Property Management - ECPv5.12.3//NONSGML v1.0//EN
CALSCALE:GREGORIAN
METHOD:PUBLISH
X-WR-CALNAME:Ocean City MD Property Management
X-ORIGINAL-URL:https://ocmannproperties.com
X-WR-CALDESC:Events for Ocean City MD Property Management
BEGIN:VTIMEZONE
TZID:America/New_York
BEGIN:DAYLIGHT
TZOFFSETFROM:-0500
TZOFFSETTO:-0400
TZNAME:EDT
DTSTART:20220313T070000
END:DAYLIGHT
BEGIN:STANDARD
TZOFFSETFROM:-0400
TZOFFSETTO:-0500
TZNAME:EST
DTSTART:20221106T060000
END:STANDARD
END:VTIMEZONE
BEGIN:VEVENT
DTSTART;TZID=America/New_York:20221015T100000
DTEND;TZID=America/New_York:20221015T150000
DTSTAMP:20260425T073545
CREATED:20221015T205902Z
LAST-MODIFIED:20221015T205902Z
UID:2097559-1665828000-1665846000@ocmannproperties.com
SUMMARY:Harbor Day at the Docks
DESCRIPTION:Located along Sunset Avenue in the West Ocean City Commercial Harbor\, this waterfront festival celebrates our rich history and maritime heritage\, as well as the exciting sport fishing and commercial fishing industries. \nHighlights of the day include seafood cooking demonstrations\, crab picking contests\, fish cleaning demonstrations\, local fisherman displays\, nautical artisans\, educational exhibits\, entertainment\, food and fun kids’ activities …all for free! \n\n \n 
URL:https://ocmannproperties.com/event/harbor-day-at-the-docks-2/
END:VEVENT
END:VCALENDAR