BEGIN:VCALENDAR
VERSION:2.0
PRODID:-//Ocean City MD Property Management - ECPv5.12.3//NONSGML v1.0//EN
CALSCALE:GREGORIAN
METHOD:PUBLISH
X-WR-CALNAME:Ocean City MD Property Management
X-ORIGINAL-URL:https://ocmannproperties.com
X-WR-CALDESC:Events for Ocean City MD Property Management
BEGIN:VTIMEZONE
TZID:America/New_York
BEGIN:DAYLIGHT
TZOFFSETFROM:-0500
TZOFFSETTO:-0400
TZNAME:EDT
DTSTART:20210314T070000
END:DAYLIGHT
BEGIN:STANDARD
TZOFFSETFROM:-0400
TZOFFSETTO:-0500
TZNAME:EST
DTSTART:20211107T060000
END:STANDARD
END:VTIMEZONE
BEGIN:VEVENT
DTSTART;TZID=America/New_York:20210219T170000
DTEND;TZID=America/New_York:20210219T210000
DTSTAMP:20260423T051252
CREATED:20210219T210208Z
LAST-MODIFIED:20210219T210208Z
UID:2095791-1613754000-1613768400@ocmannproperties.com
SUMMARY:High Five Swan Dive Duo
DESCRIPTION:Come to Seacrets to hear High Five Swan Dive – a cover band from the Philadelphia area. This band is known for its unique arrangements that keep the dance floor packed. Exclusively represented by Media Five Entertainment. 
URL:https://ocmannproperties.com/event/high-five-swan-dive-duo-2/
END:VEVENT
END:VCALENDAR