BEGIN:VCALENDAR
VERSION:2.0
PRODID:-//Ocean City MD Property Management - ECPv5.12.3//NONSGML v1.0//EN
CALSCALE:GREGORIAN
METHOD:PUBLISH
X-WR-CALNAME:Ocean City MD Property Management
X-ORIGINAL-URL:https://ocmannproperties.com
X-WR-CALDESC:Events for Ocean City MD Property Management
BEGIN:VTIMEZONE
TZID:America/New_York
BEGIN:DAYLIGHT
TZOFFSETFROM:-0500
TZOFFSETTO:-0400
TZNAME:EDT
DTSTART:20220313T070000
END:DAYLIGHT
BEGIN:STANDARD
TZOFFSETFROM:-0400
TZOFFSETTO:-0500
TZNAME:EST
DTSTART:20221106T060000
END:STANDARD
END:VTIMEZONE
BEGIN:VEVENT
DTSTART;TZID=America/New_York:20221003T130000
DTEND;TZID=America/New_York:20221003T140000
DTSTAMP:20260424T161930
CREATED:20221003T085853Z
LAST-MODIFIED:20221003T085853Z
UID:2097534-1664802000-1664805600@ocmannproperties.com
SUMMARY:History Week | History of our Surfmen
DESCRIPTION:For this year’s Ocean City History Week the Ocean City Life-Saving Station Museum is offering a variety of events and activities to highlight the town’s unique coastal history.\n \nMondays at 1:00 pm the Museum will feature History of our Surfmen\, a free program that will take a close look at the equipment that was used by the United States Life-Saving Service to conduct a rescue.  The program will be held inside the museum’s boat room.\n\n \nHISTORY WEEK EVENTS Include:\n \nFREE Admission for all Delmarva Locals: During history week we are offering free admission to all Eastern Shore locals. If you live on the Delmarva Peninsula stop by and enjoy the museum free of charge! \n \nFall Photo opportunity: Be sure to stop by the museum for a fall photo opportunity. Pose with our display of fall flowers\, pumpkins\, and hay located on the boardwalk in front of our shark display and anchor. \n \n \n \n  
URL:https://ocmannproperties.com/event/history-week-history-of-our-surfmen/
END:VEVENT
END:VCALENDAR