BEGIN:VCALENDAR
VERSION:2.0
PRODID:-//Ocean City MD Property Management - ECPv5.12.3//NONSGML v1.0//EN
CALSCALE:GREGORIAN
METHOD:PUBLISH
X-WR-CALNAME:Ocean City MD Property Management
X-ORIGINAL-URL:https://ocmannproperties.com
X-WR-CALDESC:Events for Ocean City MD Property Management
BEGIN:VTIMEZONE
TZID:America/New_York
BEGIN:DAYLIGHT
TZOFFSETFROM:-0500
TZOFFSETTO:-0400
TZNAME:EDT
DTSTART:20170312T070000
END:DAYLIGHT
BEGIN:STANDARD
TZOFFSETFROM:-0400
TZOFFSETTO:-0500
TZNAME:EST
DTSTART:20171105T060000
END:STANDARD
END:VTIMEZONE
BEGIN:VEVENT
DTSTART;TZID=America/New_York:20171214T170000
DTEND;TZID=America/New_York:20171214T200000
DTSTAMP:20260424T230932
CREATED:20171214T090129Z
LAST-MODIFIED:20171214T090129Z
UID:2089510-1513270800-1513281600@ocmannproperties.com
SUMMARY:Holiday Open House
DESCRIPTION:A Perfect Face will be hosting a Holiday Open House with FREE goody bags for the first 20 customers!  \n \nYou’ll find BareMineral Makeup demonstrations\, Quick Fix Holiday Hair Solutions\, an Ugly Sweater Contest\, prizes\, giveaways\, refreshments\, retail promotions and more!\n \nHoliday Shopping Special\nWhile you are here\, do a little holiday shopping; free $10 gift card with $100 gift card purchase.\n \n \n 
URL:https://ocmannproperties.com/event/holiday-open-house/
END:VEVENT
END:VCALENDAR