BEGIN:VCALENDAR
VERSION:2.0
PRODID:-//Ocean City MD Property Management - ECPv5.12.3//NONSGML v1.0//EN
CALSCALE:GREGORIAN
METHOD:PUBLISH
X-WR-CALNAME:Ocean City MD Property Management
X-ORIGINAL-URL:https://ocmannproperties.com
X-WR-CALDESC:Events for Ocean City MD Property Management
BEGIN:VTIMEZONE
TZID:America/New_York
BEGIN:DAYLIGHT
TZOFFSETFROM:-0500
TZOFFSETTO:-0400
TZNAME:EDT
DTSTART:20190310T070000
END:DAYLIGHT
BEGIN:STANDARD
TZOFFSETFROM:-0400
TZOFFSETTO:-0500
TZNAME:EST
DTSTART:20191103T060000
END:STANDARD
END:VTIMEZONE
BEGIN:VEVENT
DTSTART;TZID=America/New_York:20191210T103000
DTEND;TZID=America/New_York:20191210T140000
DTSTAMP:20260423T030530
CREATED:20191210T085822Z
LAST-MODIFIED:20191210T085822Z
UID:2094633-1575973800-1575986400@ocmannproperties.com
SUMMARY:Holiday Wrappings Luncheon & Fashion Show
DESCRIPTION:Do you have a passion for fashion? The American Cancer Society is hosting a\nHoliday Wrappings Luncheon & Fashion Show.  \n\nFriends will\nenjoy one of the area’s premier events by fighting cancer with fashion\nfrom more than a dozen area boutiques while enjoying a delicious warm\nplated lunch\, humming along to live holiday music\, and getting a great holiday\ndeal through our GRAND Silent and Chinese Auctions\, or perhaps a door prize. \n\nThe American\nCancer Society Holiday Wrappings Fashion Show and Luncheon will be held\nTuesday\, December 10. Fashion will be from locally owned business. Besides the\nwonderful fashions\, there is a silent auction\, Chinese’s auction\, raffles and\nmuch more. The funds raised at this event will benefit our programs of\nresearch\, education\, patients’ services and advocacy for the American Cancer\nSociety. \n\n 
URL:https://ocmannproperties.com/event/holiday-wrappings-luncheon-fashion-show/
END:VEVENT
END:VCALENDAR