BEGIN:VCALENDAR
VERSION:2.0
PRODID:-//Ocean City MD Property Management - ECPv5.12.3//NONSGML v1.0//EN
CALSCALE:GREGORIAN
METHOD:PUBLISH
X-WR-CALNAME:Ocean City MD Property Management
X-ORIGINAL-URL:https://ocmannproperties.com
X-WR-CALDESC:Events for Ocean City MD Property Management
BEGIN:VTIMEZONE
TZID:America/New_York
BEGIN:DAYLIGHT
TZOFFSETFROM:-0500
TZOFFSETTO:-0400
TZNAME:EDT
DTSTART:20220313T070000
END:DAYLIGHT
BEGIN:STANDARD
TZOFFSETFROM:-0400
TZOFFSETTO:-0500
TZNAME:EST
DTSTART:20221106T060000
END:STANDARD
END:VTIMEZONE
BEGIN:VEVENT
DTSTART;TZID=America/New_York:20220406T160000
DTEND;TZID=America/New_York:20220406T200000
DTSTAMP:20260424T051228
CREATED:20220406T085831Z
LAST-MODIFIED:20220406T085831Z
UID:2097170-1649260800-1649275200@ocmannproperties.com
SUMMARY:Hot Sauce Band
DESCRIPTION:High energy band\, Hot Sauce plays live at the Skye Bar and Grille.  Hot Sauce’ song list is expansive and they have something for everyone.  Stop by the Skye Bar for Happy Hour from 3:00 pm to 6: 00 pm with great food and drink specials or have a nice dinner while you enjoy Hot Sauce Band live on stage! \n \n 
URL:https://ocmannproperties.com/event/hot-sauce-band-3/
END:VEVENT
END:VCALENDAR