BEGIN:VCALENDAR
VERSION:2.0
PRODID:-//Ocean City MD Property Management - ECPv5.12.3//NONSGML v1.0//EN
CALSCALE:GREGORIAN
METHOD:PUBLISH
X-WR-CALNAME:Ocean City MD Property Management
X-ORIGINAL-URL:https://ocmannproperties.com
X-WR-CALDESC:Events for Ocean City MD Property Management
BEGIN:VTIMEZONE
TZID:America/New_York
BEGIN:DAYLIGHT
TZOFFSETFROM:-0500
TZOFFSETTO:-0400
TZNAME:EDT
DTSTART:20210314T070000
END:DAYLIGHT
BEGIN:STANDARD
TZOFFSETFROM:-0400
TZOFFSETTO:-0500
TZNAME:EST
DTSTART:20211107T060000
END:STANDARD
END:VTIMEZONE
BEGIN:VEVENT
DTSTART;TZID=America/New_York:20211201T130000
DTEND;TZID=America/New_York:20211201T150000
DTSTAMP:20260423T191646
CREATED:20211201T085906Z
LAST-MODIFIED:20211201T085906Z
UID:2096905-1638363600-1638370800@ocmannproperties.com
SUMMARY:In Person Adult Pottery Class
DESCRIPTION:Art League students to develop their understanding of clay\, are encouraged to create unique projects.  There are variety of projects to inspire students or bring your own ideas to work through. My goal is to spark inspiration\, creativity and learning. All Levels welcome. Perfect for all levels of students from the beginner to more advanced. Adults and teens welcome.\n \nCost per session:\n$45 Members\, $56 Non – Members (all material\, glazing and firing is included \nPlease register in advance. 
URL:https://ocmannproperties.com/event/in-person-adult-pottery-class-11/
END:VEVENT
END:VCALENDAR