BEGIN:VCALENDAR
VERSION:2.0
PRODID:-//Ocean City MD Property Management - ECPv5.12.3//NONSGML v1.0//EN
CALSCALE:GREGORIAN
METHOD:PUBLISH
X-WR-CALNAME:Ocean City MD Property Management
X-ORIGINAL-URL:https://ocmannproperties.com
X-WR-CALDESC:Events for Ocean City MD Property Management
BEGIN:VTIMEZONE
TZID:America/New_York
BEGIN:DAYLIGHT
TZOFFSETFROM:-0500
TZOFFSETTO:-0400
TZNAME:EDT
DTSTART:20220313T070000
END:DAYLIGHT
BEGIN:STANDARD
TZOFFSETFROM:-0400
TZOFFSETTO:-0500
TZNAME:EST
DTSTART:20221106T060000
END:STANDARD
END:VTIMEZONE
BEGIN:VEVENT
DTSTART;TZID=America/New_York:20220521T093000
DTEND;TZID=America/New_York:20220521T123000
DTSTAMP:20260424T072226
CREATED:20220521T085824Z
LAST-MODIFIED:20220521T085824Z
UID:2097263-1653125400-1653136200@ocmannproperties.com
SUMMARY:In-Person: Alcohol Ink Painting Class
DESCRIPTION:Alcohol ink painting – Make a beautiful abstract piece of art with instructor\, Barbara Buford \nAlcohol ink is a dye based permanent ink that is activated by using 91% rubbing alcohol. The colors are bright and give the illusion of stained glass. The ink is used on a nonporous paper called YUPO. \nThe objective of this class is to learn how to combine ink and doodling. There is no drawing or art experience needed. \nPlease wear old cloths or brig a smock or apron the ink will stain your cloths. \nCost: $30 For Members\, $38 For Non-Members\, all material included!    \nPlease register in advance. 
URL:https://ocmannproperties.com/event/in-person-alcohol-ink-painting-class/
END:VEVENT
END:VCALENDAR