BEGIN:VCALENDAR
VERSION:2.0
PRODID:-//Ocean City MD Property Management - ECPv5.12.3//NONSGML v1.0//EN
CALSCALE:GREGORIAN
METHOD:PUBLISH
X-WR-CALNAME:Ocean City MD Property Management
X-ORIGINAL-URL:https://ocmannproperties.com
X-WR-CALDESC:Events for Ocean City MD Property Management
BEGIN:VTIMEZONE
TZID:America/New_York
BEGIN:DAYLIGHT
TZOFFSETFROM:-0500
TZOFFSETTO:-0400
TZNAME:EDT
DTSTART:20210314T070000
END:DAYLIGHT
BEGIN:STANDARD
TZOFFSETFROM:-0400
TZOFFSETTO:-0500
TZNAME:EST
DTSTART:20211107T060000
END:STANDARD
END:VTIMEZONE
BEGIN:VEVENT
DTSTART;TZID=America/New_York:20210806T100000
DTEND;TZID=America/New_York:20210806T110000
DTSTAMP:20260423T140106
CREATED:20210806T205903Z
LAST-MODIFIED:20210806T205903Z
UID:2096661-1628244000-1628247600@ocmannproperties.com
SUMMARY:In Person: Be A Part of this Fairy Tale Dance
DESCRIPTION:Fairy Tale Dance takes class fairy tales such as “The Three Little Pigs”\, ”Goldilocks” and “The Three Bears”\, ”The Gingerbread Man”\, and “The Princess and the Pea”\, and brings them to life through movement and dance. Following a warm-up period\, students will listen to a story and then learn choreography that will bring the story to life!\nMaterial: Dress comfortable and the Instructor will supply books\, music and props.\n\n\nCost per session:\n$25 for members\, $30 for non members\n\n\n\n\n\n\n\n\n\n\n\n\n\n\n\n\n\n\n\n \n\n \n 
URL:https://ocmannproperties.com/event/in-person-be-a-part-of-this-fairy-tale-dance-2/
END:VEVENT
END:VCALENDAR