BEGIN:VCALENDAR
VERSION:2.0
PRODID:-//Ocean City MD Property Management - ECPv5.12.3//NONSGML v1.0//EN
CALSCALE:GREGORIAN
METHOD:PUBLISH
X-WR-CALNAME:Ocean City MD Property Management
X-ORIGINAL-URL:https://ocmannproperties.com
X-WR-CALDESC:Events for Ocean City MD Property Management
BEGIN:VTIMEZONE
TZID:America/New_York
BEGIN:DAYLIGHT
TZOFFSETFROM:-0500
TZOFFSETTO:-0400
TZNAME:EDT
DTSTART:20230312T070000
END:DAYLIGHT
BEGIN:STANDARD
TZOFFSETFROM:-0400
TZOFFSETTO:-0500
TZNAME:EST
DTSTART:20231105T060000
END:STANDARD
END:VTIMEZONE
BEGIN:VEVENT
DTSTART;TZID=America/New_York:20230605T100000
DTEND;TZID=America/New_York:20230605T150000
DTSTAMP:20260421T192622
CREATED:20230605T212204Z
LAST-MODIFIED:20230605T212204Z
UID:2098045-1685959200-1685977200@ocmannproperties.com
SUMMARY:In Person Beginners and Beyond Watercolor Class & Workshop
DESCRIPTION:June 5-6-7; “Best Vacation Ever”  \nOn Day 1 we’ll be painting our “Best Vacation Ever” in O.C. Learning all the different colors to use for sand and all the colorful beach umbrellas will be enjoyable. Day 2 we will be painting the “Inlet Break Water”. Learning to paint splashes\, rocks\, gradient sky washes\, and sand using many tricks such as card scraping\, liquid masking\, stamping and more. We will have an hour demo to start each day and after that\, new artists will have additional tips and technique instructions. For new artists lender kits are available at a small charge of $20 for paint equipment and 4 sheets of Watercolor Paper.\nMost students bring a bag lunch\, and come early to set up before the 10 AM demo.\nNew Students may register at any time. \n\n\nNew Students may register at any time. Please contact Gerilyn Gaskill if you have questions about the class: Gerilyn Gaskill-email: hggask@comcast.net\n\n \nCost: $150 members\, $188 non members \n\n\n\n 
URL:https://ocmannproperties.com/event/in-person-beginners-and-beyond-watercolor-class-workshop-18/
END:VEVENT
END:VCALENDAR