BEGIN:VCALENDAR
VERSION:2.0
PRODID:-//Ocean City MD Property Management - ECPv5.12.3//NONSGML v1.0//EN
CALSCALE:GREGORIAN
METHOD:PUBLISH
X-WR-CALNAME:Ocean City MD Property Management
X-ORIGINAL-URL:https://ocmannproperties.com
X-WR-CALDESC:Events for Ocean City MD Property Management
BEGIN:VTIMEZONE
TZID:America/New_York
BEGIN:DAYLIGHT
TZOFFSETFROM:-0500
TZOFFSETTO:-0400
TZNAME:EDT
DTSTART:20220313T070000
END:DAYLIGHT
BEGIN:STANDARD
TZOFFSETFROM:-0400
TZOFFSETTO:-0500
TZNAME:EST
DTSTART:20221106T060000
END:STANDARD
END:VTIMEZONE
BEGIN:VEVENT
DTSTART;TZID=America/New_York:20221109T100000
DTEND;TZID=America/New_York:20221109T150000
DTSTAMP:20260422T010227
CREATED:20221109T210232Z
LAST-MODIFIED:20221109T210232Z
UID:2097607-1667988000-1668006000@ocmannproperties.com
SUMMARY:In Person: Bookmaking | Make Hard Bound Tunnel Books
DESCRIPTION:Starting with simple shapes and working to a 3D hard bound structure\, create beautiful tunnel books in a single day. All materials and handouts will be supplied by the instructor; a $10 supply fee will be collected in the class.\n \nWant to learn how to make your own book? Come and join our new instructor Maggie Gillikin\, and learn in each class a different style and technique of bookmaking. These are beginner classes and every skill level is welcome. You can attend all classes individual\, but you will build up your skill level when each class is taken in succession.\n\n \nCost: \n$55 Members\, $69 Non-Members (Plus $10 material fee\, collected by the instructor the day of class) 
URL:https://ocmannproperties.com/event/in-person-bookmaking-make-hard-bound-tunnel-books/
END:VEVENT
END:VCALENDAR