BEGIN:VCALENDAR
VERSION:2.0
PRODID:-//Ocean City MD Property Management - ECPv5.12.3//NONSGML v1.0//EN
CALSCALE:GREGORIAN
METHOD:PUBLISH
X-WR-CALNAME:Ocean City MD Property Management
X-ORIGINAL-URL:https://ocmannproperties.com
X-WR-CALDESC:Events for Ocean City MD Property Management
BEGIN:VTIMEZONE
TZID:America/New_York
BEGIN:DAYLIGHT
TZOFFSETFROM:-0500
TZOFFSETTO:-0400
TZNAME:EDT
DTSTART:20220313T070000
END:DAYLIGHT
BEGIN:STANDARD
TZOFFSETFROM:-0400
TZOFFSETTO:-0500
TZNAME:EST
DTSTART:20221106T060000
END:STANDARD
END:VTIMEZONE
BEGIN:VEVENT
DTSTART;TZID=America/New_York:20221012T100000
DTEND;TZID=America/New_York:20221012T150000
DTSTAMP:20260425T110838
CREATED:20221012T205940Z
LAST-MODIFIED:20221012T205940Z
UID:2097553-1665568800-1665586800@ocmannproperties.com
SUMMARY:In Person: Bookmaking | Make Scultural Books
DESCRIPTION:Come enjoy making beautiful\, easy 3D books in one day – a butterfly book\, a flag book\, and a small accordion book nestled in an origami flower enclosure. All materials will be supplied by the instructor; a $10 supply fee will be collected in class. Easy to make and spectacular to open! There will be handouts for each structure.\n \nWant to learn how to make your own book? Come and join our new instructor Maggie Gillikin\, and learn in each class a different style and technique of bookmaking. These are beginner classes and every skill level is welcome. You can attend all classes individual\, but you will build up your skill level when each class is taken in succession.\n \nCost: \n$55 Members\, $69 Non-Members (Plus $10 material fee\, collected by the instructor the day of class) 
URL:https://ocmannproperties.com/event/in-person-bookmaking-make-scultural-books-2/
END:VEVENT
END:VCALENDAR