BEGIN:VCALENDAR
VERSION:2.0
PRODID:-//Ocean City MD Property Management - ECPv5.12.3//NONSGML v1.0//EN
CALSCALE:GREGORIAN
METHOD:PUBLISH
X-WR-CALNAME:Ocean City MD Property Management
X-ORIGINAL-URL:https://ocmannproperties.com
X-WR-CALDESC:Events for Ocean City MD Property Management
BEGIN:VTIMEZONE
TZID:America/New_York
BEGIN:DAYLIGHT
TZOFFSETFROM:-0500
TZOFFSETTO:-0400
TZNAME:EDT
DTSTART:20220313T070000
END:DAYLIGHT
BEGIN:STANDARD
TZOFFSETFROM:-0400
TZOFFSETTO:-0500
TZNAME:EST
DTSTART:20221106T060000
END:STANDARD
END:VTIMEZONE
BEGIN:VEVENT
DTSTART;TZID=America/New_York:20221113T100000
DTEND;TZID=America/New_York:20221113T130000
DTSTAMP:20260421T124146
CREATED:20221113T085821Z
LAST-MODIFIED:20221113T085821Z
UID:2097614-1668333600-1668344400@ocmannproperties.com
SUMMARY:In Person: Create A Thanksgiving Themed Flower Arrangement Class
DESCRIPTION:Floral design or floral arts is the art of creating flower arrangements in vases\, bowls\, baskets\, or other containers\, or making bouquets and compositions from cut flowers\, foliage\, herbs\, ornamental grasses\, and other plant materials.\nJoan will take you in this class on an excursion into this world by showing you different ways and techniques to create beautiful flower arrangements. Supply fee includes flowers for medium arrangement\, foam\, taper candles & container.\n \n$25 for members\, $32 for non members (+ $35 supply fee)
URL:https://ocmannproperties.com/event/in-person-create-a-thanksgiving-themed-flower-arrangement-class/
END:VEVENT
END:VCALENDAR