BEGIN:VCALENDAR
VERSION:2.0
PRODID:-//Ocean City MD Property Management - ECPv5.12.3//NONSGML v1.0//EN
CALSCALE:GREGORIAN
METHOD:PUBLISH
X-WR-CALNAME:Ocean City MD Property Management
X-ORIGINAL-URL:https://ocmannproperties.com
X-WR-CALDESC:Events for Ocean City MD Property Management
BEGIN:VTIMEZONE
TZID:America/New_York
BEGIN:DAYLIGHT
TZOFFSETFROM:-0500
TZOFFSETTO:-0400
TZNAME:EDT
DTSTART:20210314T070000
END:DAYLIGHT
BEGIN:STANDARD
TZOFFSETFROM:-0400
TZOFFSETTO:-0500
TZNAME:EST
DTSTART:20211107T060000
END:STANDARD
END:VTIMEZONE
BEGIN:VEVENT
DTSTART;TZID=America/New_York:20210313T100000
DTEND;TZID=America/New_York:20210313T120000
DTSTAMP:20260423T065941
CREATED:20210313T210235Z
LAST-MODIFIED:20210313T210235Z
UID:2096350-1615629600-1615636800@ocmannproperties.com
SUMMARY:In-Person Free Family Art Day: Create Button Trees
DESCRIPTION:This is a free event funded by the Donnie Williams Foundation. A suggested donation of $5 to our COVID-19 emergency operating fund would be greatly appreciated\, so we may continue to offer free youth classes in the future. \nChildren must be accompanied by an adult; adults must be accompanied by a child. All family members (including adults) must be registered for this event.
URL:https://ocmannproperties.com/event/in-person-free-family-art-day-create-button-trees-2/
END:VEVENT
END:VCALENDAR