BEGIN:VCALENDAR
VERSION:2.0
PRODID:-//Ocean City MD Property Management - ECPv5.12.3//NONSGML v1.0//EN
CALSCALE:GREGORIAN
METHOD:PUBLISH
X-WR-CALNAME:Ocean City MD Property Management
X-ORIGINAL-URL:https://ocmannproperties.com
X-WR-CALDESC:Events for Ocean City MD Property Management
BEGIN:VTIMEZONE
TZID:America/New_York
BEGIN:DAYLIGHT
TZOFFSETFROM:-0500
TZOFFSETTO:-0400
TZNAME:EDT
DTSTART:20220313T070000
END:DAYLIGHT
BEGIN:STANDARD
TZOFFSETFROM:-0400
TZOFFSETTO:-0500
TZNAME:EST
DTSTART:20221106T060000
END:STANDARD
END:VTIMEZONE
BEGIN:VEVENT
DTSTART;TZID=America/New_York:20221111T100000
DTEND;TZID=America/New_York:20221111T113000
DTSTAMP:20260421T192839
CREATED:20221111T085917Z
LAST-MODIFIED:20221111T085917Z
UID:2097610-1668160800-1668166200@ocmannproperties.com
SUMMARY:In Person: Make Shrinky Dink Keychains
DESCRIPTION:Create some fun miniature pieces of art with Shrinky Dinks! Turn your artwork into a keychain! Everyone will get to make two keychains. \n \nCost: $35 for members\, $44 for non members (all material included) \nPlease Register In Advance  
URL:https://ocmannproperties.com/event/in-person-make-shrinky-dink-keychains/
END:VEVENT
END:VCALENDAR