BEGIN:VCALENDAR
VERSION:2.0
PRODID:-//Ocean City MD Property Management - ECPv5.12.3//NONSGML v1.0//EN
CALSCALE:GREGORIAN
METHOD:PUBLISH
X-WR-CALNAME:Ocean City MD Property Management
X-ORIGINAL-URL:https://ocmannproperties.com
X-WR-CALDESC:Events for Ocean City MD Property Management
BEGIN:VTIMEZONE
TZID:America/New_York
BEGIN:DAYLIGHT
TZOFFSETFROM:-0500
TZOFFSETTO:-0400
TZNAME:EDT
DTSTART:20200308T070000
END:DAYLIGHT
BEGIN:STANDARD
TZOFFSETFROM:-0400
TZOFFSETTO:-0500
TZNAME:EST
DTSTART:20201101T060000
END:STANDARD
END:VTIMEZONE
BEGIN:VEVENT
DTSTART;TZID=America/New_York:20201210T093000
DTEND;TZID=America/New_York:20201210T153000
DTSTAMP:20260420T102216
CREATED:20201210T085947Z
LAST-MODIFIED:20201210T085947Z
UID:2095398-1607592600-1607614200@ocmannproperties.com
SUMMARY:In-Person: Paint Your True North with Barbara Buford - CANCELED
DESCRIPTION:Mixed media\, collage\, acrylic painting. We are all made of stardust\, there is light in your core. Layers of emotions \,stories\, dreams and memories. Learn how to create a mixed media painting that reflects the light that you are. Paint your true north and allow the moon \,stars\, and trees to guide you. \n\nCost: $75 Members\, $95 Non-Members\, all material included!
URL:https://ocmannproperties.com/event/in-person-paint-your-true-north-with-barbara-buford-canceled/
END:VEVENT
END:VCALENDAR