BEGIN:VCALENDAR
VERSION:2.0
PRODID:-//Ocean City MD Property Management - ECPv5.12.3//NONSGML v1.0//EN
CALSCALE:GREGORIAN
METHOD:PUBLISH
X-WR-CALNAME:Ocean City MD Property Management
X-ORIGINAL-URL:https://ocmannproperties.com
X-WR-CALDESC:Events for Ocean City MD Property Management
BEGIN:VTIMEZONE
TZID:America/New_York
BEGIN:DAYLIGHT
TZOFFSETFROM:-0500
TZOFFSETTO:-0400
TZNAME:EDT
DTSTART:20220313T070000
END:DAYLIGHT
BEGIN:STANDARD
TZOFFSETFROM:-0400
TZOFFSETTO:-0500
TZNAME:EST
DTSTART:20221106T060000
END:STANDARD
END:VTIMEZONE
BEGIN:VEVENT
DTSTART;TZID=America/New_York:20220520T093000
DTEND;TZID=America/New_York:20220520T120000
DTSTAMP:20260424T091704
CREATED:20220520T090741Z
LAST-MODIFIED:20220520T090741Z
UID:2097261-1653039000-1653048000@ocmannproperties.com
SUMMARY:In - Person: Painting Sea Shells In Any Medium
DESCRIPTION:A collection of seashells in a wide variety of textures\, shapes\, and colors.  Join us and we’ll paint a variety of seashells.  Choose your favorite seashell picture (or use Jacki’s) and draw (or trace) it on the paper or canvas that meets your needs.   In a short demonstration using acrylic paints\, Jacki will model how to identify the different values in the photo – the lights\, mediums\, or darks. Using acrylic\, watercolor\, pastel\, or oil paint – your choice –  Jacki will guide and assist each artist in creating a realistic portrait. \n\nCost: $30 For Members; $38 For Non-Members (Bring Your Own Supplies)
URL:https://ocmannproperties.com/event/in-person-painting-sea-shells-in-any-medium/
END:VEVENT
END:VCALENDAR