BEGIN:VCALENDAR
VERSION:2.0
PRODID:-//Ocean City MD Property Management - ECPv5.12.3//NONSGML v1.0//EN
CALSCALE:GREGORIAN
METHOD:PUBLISH
X-WR-CALNAME:Ocean City MD Property Management
X-ORIGINAL-URL:https://ocmannproperties.com
X-WR-CALDESC:Events for Ocean City MD Property Management
BEGIN:VTIMEZONE
TZID:America/New_York
BEGIN:DAYLIGHT
TZOFFSETFROM:-0500
TZOFFSETTO:-0400
TZNAME:EDT
DTSTART:20200308T070000
END:DAYLIGHT
BEGIN:STANDARD
TZOFFSETFROM:-0400
TZOFFSETTO:-0500
TZNAME:EST
DTSTART:20201101T060000
END:STANDARD
END:VTIMEZONE
BEGIN:VEVENT
DTSTART;TZID=America/New_York:20200109T133000
DTEND;TZID=America/New_York:20200109T163000
DTSTAMP:20260423T010051
CREATED:20200109T205833Z
LAST-MODIFIED:20200109T205833Z
UID:2094700-1578576600-1578587400@ocmannproperties.com
SUMMARY:Indoor Drop-In Pickleball
DESCRIPTION:Join in and play the fastest growing sport in America! Bring your friends to the Ocean Pines Community Center for Indoor Drop-In Pickleball and enjoy some good-natured competition. Equipment is available for use. \n \nCost: \nFree for OP Pickleball Members\n$5.00 for Ocean Pines Residents\n$7.00 for Non-Residents
URL:https://ocmannproperties.com/event/indoor-drop-in-pickleball-2/
END:VEVENT
END:VCALENDAR