BEGIN:VCALENDAR
VERSION:2.0
PRODID:-//Ocean City MD Property Management - ECPv5.12.3//NONSGML v1.0//EN
CALSCALE:GREGORIAN
METHOD:PUBLISH
X-WR-CALNAME:Ocean City MD Property Management
X-ORIGINAL-URL:https://ocmannproperties.com
X-WR-CALDESC:Events for Ocean City MD Property Management
BEGIN:VTIMEZONE
TZID:America/New_York
BEGIN:DAYLIGHT
TZOFFSETFROM:-0500
TZOFFSETTO:-0400
TZNAME:EDT
DTSTART:20170312T070000
END:DAYLIGHT
BEGIN:STANDARD
TZOFFSETFROM:-0400
TZOFFSETTO:-0500
TZNAME:EST
DTSTART:20171105T060000
END:STANDARD
END:VTIMEZONE
BEGIN:VEVENT
DTSTART;TZID=America/New_York:20170608T093000
DTEND;TZID=America/New_York:20170608T110000
DTSTAMP:20260425T102654
CREATED:20170608T085947Z
LAST-MODIFIED:20170608T085947Z
UID:2089108-1496914200-1496919600@ocmannproperties.com
SUMMARY:Intro to FLOWGA
DESCRIPTION:Start off your summer with a BIG Splash ~ Intro to Flowga \n(Pursuing Stand Up Paddle Boarding & Yoga) \n \nOur floating studio will be opening soon and we would love for you to experience it for yourself this year!  \n \nNever paddled before? Never yoga-ed before? We have you covered!  These workshops will start from the beginning;  no prior experience is necessary.\n \nIntro to Flowga Workshop will start with the foundations of SUP and Yoga: paddling\, handling\, safety\, setting your anchor\, beginnings of yoga on the water\, balance\, core stability and serenity on the water. \n \nYou must register in advance for this workshop.  Space is limited so get your tickets today!\n \n \n 
URL:https://ocmannproperties.com/event/intro-to-flowga/
END:VEVENT
END:VCALENDAR