BEGIN:VCALENDAR
VERSION:2.0
PRODID:-//Ocean City MD Property Management - ECPv5.12.3//NONSGML v1.0//EN
CALSCALE:GREGORIAN
METHOD:PUBLISH
X-WR-CALNAME:Ocean City MD Property Management
X-ORIGINAL-URL:https://ocmannproperties.com
X-WR-CALDESC:Events for Ocean City MD Property Management
BEGIN:VTIMEZONE
TZID:America/New_York
BEGIN:DAYLIGHT
TZOFFSETFROM:-0500
TZOFFSETTO:-0400
TZNAME:EDT
DTSTART:20170312T070000
END:DAYLIGHT
BEGIN:STANDARD
TZOFFSETFROM:-0400
TZOFFSETTO:-0500
TZNAME:EST
DTSTART:20171105T060000
END:STANDARD
END:VTIMEZONE
BEGIN:VEVENT
DTSTART;TZID=America/New_York:20170314T130000
DTEND;TZID=America/New_York:20170314T150000
DTSTAMP:20260425T155757
CREATED:20170314T210030Z
LAST-MODIFIED:20170314T210030Z
UID:2088907-1489496400-1489503600@ocmannproperties.com
SUMMARY:Intro To Watercolor Class
DESCRIPTION:Come and paint in Watercolors mixed with Pastels\, Pen & Ink\, and more with Gail Zinar.You will experience how Gail integrates emotions into her paintings\, and how she creates special effects by combining Watercolor with different media. You will see how she approaches the paper by watching her demos\, and she will share her thought-process with you. She will teach you the technical aspects of Watercolor\, and after her demo you are welcome to paint your own masterpiece.Every class you will work on a new exciting Theme. All levels are welcome. Please bring your own supplies. \n\nInstructor: Gail Zinar \n\nCost: \n$20 Members\n$25 Non- Members
URL:https://ocmannproperties.com/event/intro-to-watercolor-class-2/
END:VEVENT
END:VCALENDAR