BEGIN:VCALENDAR
VERSION:2.0
PRODID:-//Ocean City MD Property Management - ECPv5.12.3//NONSGML v1.0//EN
CALSCALE:GREGORIAN
METHOD:PUBLISH
X-WR-CALNAME:Ocean City MD Property Management
X-ORIGINAL-URL:https://ocmannproperties.com
X-WR-CALDESC:Events for Ocean City MD Property Management
BEGIN:VTIMEZONE
TZID:America/New_York
BEGIN:DAYLIGHT
TZOFFSETFROM:-0500
TZOFFSETTO:-0400
TZNAME:EDT
DTSTART:20200308T070000
END:DAYLIGHT
BEGIN:STANDARD
TZOFFSETFROM:-0400
TZOFFSETTO:-0500
TZNAME:EST
DTSTART:20201101T060000
END:STANDARD
END:VTIMEZONE
BEGIN:VEVENT
DTSTART;TZID=America/New_York:20200131T000000
DTEND;TZID=America/New_York:20200131T000000
DTSTAMP:20260422T231750
CREATED:20200131T205826Z
LAST-MODIFIED:20200131T205826Z
UID:2094748-1580428800-1580428800@ocmannproperties.com
SUMMARY:IV Stone
DESCRIPTION:Get ready to rock the night away\, IV Stone; plays classic rock\, pop\, alternative\, country rock and dance hits at Fager’s Island tonight.  This cover band of great friends has been influenced by Led Zeppelin\, Foo Fighters\, The Rolling Stones and more.
URL:https://ocmannproperties.com/event/iv-stone-3/
END:VEVENT
END:VCALENDAR