BEGIN:VCALENDAR
VERSION:2.0
PRODID:-//Ocean City MD Property Management - ECPv5.12.3//NONSGML v1.0//EN
CALSCALE:GREGORIAN
METHOD:PUBLISH
X-WR-CALNAME:Ocean City MD Property Management
X-ORIGINAL-URL:https://ocmannproperties.com
X-WR-CALDESC:Events for Ocean City MD Property Management
BEGIN:VTIMEZONE
TZID:America/New_York
BEGIN:DAYLIGHT
TZOFFSETFROM:-0500
TZOFFSETTO:-0400
TZNAME:EDT
DTSTART:20220313T070000
END:DAYLIGHT
BEGIN:STANDARD
TZOFFSETFROM:-0400
TZOFFSETTO:-0500
TZNAME:EST
DTSTART:20221106T060000
END:STANDARD
END:VTIMEZONE
BEGIN:VEVENT
DTSTART;TZID=America/New_York:20220607T120000
DTEND;TZID=America/New_York:20220607T150000
DTSTAMP:20260424T091145
CREATED:20220607T205829Z
LAST-MODIFIED:20220607T205829Z
UID:2097298-1654603200-1654614000@ocmannproperties.com
SUMMARY:Jack Bannon
DESCRIPTION:Jack Bannon will be performing live at Coconuts Beach Bar and Grill in Ocean City\, Maryland! Come eat\, drink\, and enjoy the sunny summer day on the oceanfront patio! Bring your friends and family and take advantage of the 2 for 1 happy hour drink special from 5-6pm.
URL:https://ocmannproperties.com/event/jack-bannon/
END:VEVENT
END:VCALENDAR