BEGIN:VCALENDAR
VERSION:2.0
PRODID:-//Ocean City MD Property Management - ECPv5.12.3//NONSGML v1.0//EN
CALSCALE:GREGORIAN
METHOD:PUBLISH
X-WR-CALNAME:Ocean City MD Property Management
X-ORIGINAL-URL:https://ocmannproperties.com
X-WR-CALDESC:Events for Ocean City MD Property Management
BEGIN:VTIMEZONE
TZID:America/New_York
BEGIN:DAYLIGHT
TZOFFSETFROM:-0500
TZOFFSETTO:-0400
TZNAME:EDT
DTSTART:20200308T070000
END:DAYLIGHT
BEGIN:STANDARD
TZOFFSETFROM:-0400
TZOFFSETTO:-0500
TZNAME:EST
DTSTART:20201101T060000
END:STANDARD
END:VTIMEZONE
BEGIN:VEVENT
DTSTART;TZID=America/New_York:20200101T100000
DTEND;TZID=America/New_York:20200101T140000
DTSTAMP:20260423T024600
CREATED:20200101T205821Z
LAST-MODIFIED:20200101T205821Z
UID:2094678-1577872800-1577887200@ocmannproperties.com
SUMMARY:Jazz & Brunch with Everett Spells
DESCRIPTION:Enjoy brunch at the Island with your favorite jazz singer\, Everett Spells.   Everett A. Spells is a multi-instrumental Jazz Saxophone Player. Growing up in Newport News\, Virginia\, Everett has performed with such greats as Frank Foster\, Dr. Billy Taylor\, Dr. Burgess Gardner\, Consuella Moorehead\, Bill Lee\, Steve Wilson\, Billy Drummond\, Gary Harris\, and the Wooten Brothers.
URL:https://ocmannproperties.com/event/jazz-brunch-with-everett-spells-10/
END:VEVENT
END:VCALENDAR