BEGIN:VCALENDAR
VERSION:2.0
PRODID:-//Ocean City MD Property Management - ECPv5.12.3//NONSGML v1.0//EN
CALSCALE:GREGORIAN
METHOD:PUBLISH
X-WR-CALNAME:Ocean City MD Property Management
X-ORIGINAL-URL:https://ocmannproperties.com
X-WR-CALDESC:Events for Ocean City MD Property Management
BEGIN:VTIMEZONE
TZID:America/New_York
BEGIN:DAYLIGHT
TZOFFSETFROM:-0500
TZOFFSETTO:-0400
TZNAME:EDT
DTSTART:20210314T070000
END:DAYLIGHT
BEGIN:STANDARD
TZOFFSETFROM:-0400
TZOFFSETTO:-0500
TZNAME:EST
DTSTART:20211107T060000
END:STANDARD
END:VTIMEZONE
BEGIN:VEVENT
DTSTART;VALUE=DATE:20210904
DTEND;VALUE=DATE:20210905
DTSTAMP:20260423T135710
CREATED:20210904T205835Z
LAST-MODIFIED:20210904T205835Z
UID:2096726-1630713600-1630799999@ocmannproperties.com
SUMMARY:JellyFish Festival
DESCRIPTION:The core of Jellyfish is the main stage\, right off the Boardwalk in beautiful downtown Ocean City north of the pier\, stretching to North Division Street\, which will host three days and nights of top-level regional and national music acts. We also will be using the historic Ocean Bowl Skatepark as a music venue\, with our tentacles also extending throughout Ocean City to private participating venues. We will be making future announcements along the way as our music and entertainment lineup takes shape. \nJellyfish is more than just music. Located beside the main stage\, you’ll find the Jellyfish Village. It will be five blocks of interactive\, family-friendly activities and fun. It will include a fitness challenge\, a skateboard and bicycle zone\, a secondary music stage\, as well as vendors and artists.\n \nWeekend and daily passes will be available for the three day event or for individual concerts. Offerings will include VIP\, reserved\, and general admission seating for the concerts. Included in the price of admission\, you will have access to participating entertainment (with your souvenir lanyard)\, as well as a “TBA” discount at those participating venues on food and beverage.\n \nCheck out the eclectic group of musicians playing at this music festival. \nThe local and regional acts consist of Ray Wroten\, Troll Tribe\, Rockoholics\, Crosstown Walkers and Never Ending Fall. \n \nAnthony Gomes\,  the Master of the Blues; Derek Woods Band  acclaimed folk rockers and Ted Bowne of Passafire Reggae Rocker\n \n 
URL:https://ocmannproperties.com/event/jellyfish-festival-4/
END:VEVENT
END:VCALENDAR