BEGIN:VCALENDAR
VERSION:2.0
PRODID:-//Ocean City MD Property Management - ECPv5.12.3//NONSGML v1.0//EN
CALSCALE:GREGORIAN
METHOD:PUBLISH
X-WR-CALNAME:Ocean City MD Property Management
X-ORIGINAL-URL:https://ocmannproperties.com
X-WR-CALDESC:Events for Ocean City MD Property Management
BEGIN:VTIMEZONE
TZID:America/New_York
BEGIN:DAYLIGHT
TZOFFSETFROM:-0500
TZOFFSETTO:-0400
TZNAME:EDT
DTSTART:20210314T070000
END:DAYLIGHT
BEGIN:STANDARD
TZOFFSETFROM:-0400
TZOFFSETTO:-0500
TZNAME:EST
DTSTART:20211107T060000
END:STANDARD
END:VTIMEZONE
BEGIN:VEVENT
DTSTART;TZID=America/New_York:20210711T160000
DTEND;TZID=America/New_York:20210711T200000
DTSTAMP:20260423T121559
CREATED:20210711T205842Z
LAST-MODIFIED:20210711T205842Z
UID:2096605-1626019200-1626033600@ocmannproperties.com
SUMMARY:Jim Bellin
DESCRIPTION:Acoustic Rock Guitarist\, Jim Belln will be performing at Skye Bar in midtown Ocean City\, MD! This talented artist is ready to bring you classic Rock at it’s finest! Don’t miss Jim when he makes a stop in Ocean City. Make sure you come for Happy Hour at Skye Bar from 3-6pm! Raw bar Happy Hour specials include $1 oysters and 1 1/4lb. lobster for $23. Drink specials include $5.50 Smirnoff Crushes\, $3.75 Rails\, $1 off Drafts\, and $5 House Wines.
URL:https://ocmannproperties.com/event/jim-bellin-2/
END:VEVENT
END:VCALENDAR