BEGIN:VCALENDAR
VERSION:2.0
PRODID:-//Ocean City MD Property Management - ECPv5.12.3//NONSGML v1.0//EN
CALSCALE:GREGORIAN
METHOD:PUBLISH
X-WR-CALNAME:Ocean City MD Property Management
X-ORIGINAL-URL:https://ocmannproperties.com
X-WR-CALDESC:Events for Ocean City MD Property Management
BEGIN:VTIMEZONE
TZID:America/New_York
BEGIN:DAYLIGHT
TZOFFSETFROM:-0500
TZOFFSETTO:-0400
TZNAME:EDT
DTSTART:20180311T070000
END:DAYLIGHT
BEGIN:STANDARD
TZOFFSETFROM:-0400
TZOFFSETTO:-0500
TZNAME:EST
DTSTART:20181104T060000
END:STANDARD
END:VTIMEZONE
BEGIN:VEVENT
DTSTART;VALUE=DATE:20180629
DTEND;VALUE=DATE:20180630
DTSTAMP:20260424T103525
CREATED:20180629T205923Z
LAST-MODIFIED:20180629T205923Z
UID:2093495-1530230400-1530316799@ocmannproperties.com
SUMMARY:Jimi Smooth
DESCRIPTION:The Jimi Smooth Band is based out of Washington\, DC and have a reputation for putting on electrifying shows! Their high level of energy and their unique style are both hallmarks of their performance style\, often described as “get up and boogie” music.\n \nCome on down to see Jimi Smooth and company tonight and get your energy flowin’! 
URL:https://ocmannproperties.com/event/jimi-smooth-2/
END:VEVENT
END:VCALENDAR