BEGIN:VCALENDAR
VERSION:2.0
PRODID:-//Ocean City MD Property Management - ECPv5.12.3//NONSGML v1.0//EN
CALSCALE:GREGORIAN
METHOD:PUBLISH
X-WR-CALNAME:Ocean City MD Property Management
X-ORIGINAL-URL:https://ocmannproperties.com
X-WR-CALDESC:Events for Ocean City MD Property Management
BEGIN:VTIMEZONE
TZID:America/New_York
BEGIN:DAYLIGHT
TZOFFSETFROM:-0500
TZOFFSETTO:-0400
TZNAME:EDT
DTSTART:20170312T070000
END:DAYLIGHT
BEGIN:STANDARD
TZOFFSETFROM:-0400
TZOFFSETTO:-0500
TZNAME:EST
DTSTART:20171105T060000
END:STANDARD
END:VTIMEZONE
BEGIN:VEVENT
DTSTART;TZID=America/New_York:20170120T220000
DTEND;TZID=America/New_York:20170120T220000
DTSTAMP:20260425T195144
CREATED:20170120T210519Z
LAST-MODIFIED:20170120T210519Z
UID:2088682-1484949600-1484949600@ocmannproperties.com
SUMMARY:JJ the DJ of Ocean 98.1 at Greene Turtle North
DESCRIPTION:JJ the DJ of Ocean 98.1 FM\, a local rock radio station\, will be at The Original Greene Turtle 
URL:https://ocmannproperties.com/event/jj-the-dj-of-ocean-98-1-at-greene-turtle-north/
END:VEVENT
END:VCALENDAR