BEGIN:VCALENDAR
VERSION:2.0
PRODID:-//Ocean City MD Property Management - ECPv5.12.3//NONSGML v1.0//EN
CALSCALE:GREGORIAN
METHOD:PUBLISH
X-WR-CALNAME:Ocean City MD Property Management
X-ORIGINAL-URL:https://ocmannproperties.com
X-WR-CALDESC:Events for Ocean City MD Property Management
BEGIN:VTIMEZONE
TZID:America/New_York
BEGIN:DAYLIGHT
TZOFFSETFROM:-0500
TZOFFSETTO:-0400
TZNAME:EDT
DTSTART:20170312T070000
END:DAYLIGHT
BEGIN:STANDARD
TZOFFSETFROM:-0400
TZOFFSETTO:-0500
TZNAME:EST
DTSTART:20171105T060000
END:STANDARD
END:VTIMEZONE
BEGIN:VEVENT
DTSTART;TZID=America/New_York:20171221T170000
DTEND;TZID=America/New_York:20171221T210000
DTSTAMP:20260424T230932
CREATED:20171221T090409Z
LAST-MODIFIED:20171221T090409Z
UID:2089524-1513875600-1513890000@ocmannproperties.com
SUMMARY:John McNutt Band
DESCRIPTION:Since returning from five years of European tours and four records with British rockers\, Spear of Destiny\, John McNutt has returned to his roots with new projects that include his solo record ‘Courtesy Call’. John also signed to Vemac Management upon his return and is stoked to be playing in the Eastern US again! McNutt has an intense stage presence and his raspy vocals with passionate guitar playing have earned him a strong following.\n 
URL:https://ocmannproperties.com/event/john-mcnutt-band/
END:VEVENT
END:VCALENDAR