BEGIN:VCALENDAR
VERSION:2.0
PRODID:-//Ocean City MD Property Management - ECPv5.12.3//NONSGML v1.0//EN
CALSCALE:GREGORIAN
METHOD:PUBLISH
X-WR-CALNAME:Ocean City MD Property Management
X-ORIGINAL-URL:https://ocmannproperties.com
X-WR-CALDESC:Events for Ocean City MD Property Management
BEGIN:VTIMEZONE
TZID:America/New_York
BEGIN:DAYLIGHT
TZOFFSETFROM:-0500
TZOFFSETTO:-0400
TZNAME:EDT
DTSTART:20200308T070000
END:DAYLIGHT
BEGIN:STANDARD
TZOFFSETFROM:-0400
TZOFFSETTO:-0500
TZNAME:EST
DTSTART:20201101T060000
END:STANDARD
END:VTIMEZONE
BEGIN:VEVENT
DTSTART;TZID=America/New_York:20200917T160000
DTEND;TZID=America/New_York:20200917T200000
DTSTAMP:20260422T182939
CREATED:20200917T090104Z
LAST-MODIFIED:20200917T090104Z
UID:2095222-1600358400-1600372800@ocmannproperties.com
SUMMARY:John McNutt Duo Live at Seacrets
DESCRIPTION:Since returning from five years of European tours and four records with British rockers Spear of Destiny\, John McNutt has returned to his Philly roots with new projects that include his solo record ‘Courtesy Call’. John also signed to Vemac Management upon his return and is stoked to be playing the Philly and New York club scene again!! McNutt has an intense stage presence and his raspy vocals with passionate guitar playing have earned him a strong following. John can be seen with a band\, solo\, or duet…Come on out!!!
URL:https://ocmannproperties.com/event/john-mcnutt-duo-live-at-seacrets/
END:VEVENT
END:VCALENDAR