BEGIN:VCALENDAR
VERSION:2.0
PRODID:-//Ocean City MD Property Management - ECPv5.12.3//NONSGML v1.0//EN
CALSCALE:GREGORIAN
METHOD:PUBLISH
X-WR-CALNAME:Ocean City MD Property Management
X-ORIGINAL-URL:https://ocmannproperties.com
X-WR-CALDESC:Events for Ocean City MD Property Management
BEGIN:VTIMEZONE
TZID:America/New_York
BEGIN:DAYLIGHT
TZOFFSETFROM:-0500
TZOFFSETTO:-0400
TZNAME:EDT
DTSTART:20180311T070000
END:DAYLIGHT
BEGIN:STANDARD
TZOFFSETFROM:-0400
TZOFFSETTO:-0500
TZNAME:EST
DTSTART:20181104T060000
END:STANDARD
END:VTIMEZONE
BEGIN:VEVENT
DTSTART;TZID=America/New_York:20180605T100000
DTEND;TZID=America/New_York:20180605T120000
DTSTAMP:20260424T122120
CREATED:20180605T205945Z
LAST-MODIFIED:20180605T205945Z
UID:2093445-1528192800-1528200000@ocmannproperties.com
SUMMARY:Jurassic Mini Golf & Laser Tag
DESCRIPTION:High school graduates of the class of 2018\, challenger your friends to a round of Jurassic Mini Golf and Laser tag.    Free Senior Week Event brought to you by Play it Safe organization in Ocean City MD.  This event is for June grads only!  Come play free mini golf at Jurassic Mini Golf!
URL:https://ocmannproperties.com/event/jurassic-mini-golf-laser-tag-2/
END:VEVENT
END:VCALENDAR