BEGIN:VCALENDAR
VERSION:2.0
PRODID:-//Ocean City MD Property Management - ECPv5.12.3//NONSGML v1.0//EN
CALSCALE:GREGORIAN
METHOD:PUBLISH
X-WR-CALNAME:Ocean City MD Property Management
X-ORIGINAL-URL:https://ocmannproperties.com
X-WR-CALDESC:Events for Ocean City MD Property Management
BEGIN:VTIMEZONE
TZID:America/New_York
BEGIN:DAYLIGHT
TZOFFSETFROM:-0500
TZOFFSETTO:-0400
TZNAME:EDT
DTSTART:20200308T070000
END:DAYLIGHT
BEGIN:STANDARD
TZOFFSETFROM:-0400
TZOFFSETTO:-0500
TZNAME:EST
DTSTART:20201101T060000
END:STANDARD
END:VTIMEZONE
BEGIN:VEVENT
DTSTART;TZID=America/New_York:20200328T120000
DTEND;TZID=America/New_York:20200328T170000
DTSTAMP:20260422T213226
CREATED:20200328T210126Z
LAST-MODIFIED:20200328T210126Z
UID:2094871-1585396800-1585414800@ocmannproperties.com
SUMMARY:Justin Trawick and The Common Good at Fager's Island
DESCRIPTION:Justin Trawick and The Common Good has cultivated a raw\, emotional live sound over the years playing in clubs and festivals up and down the East Coast.  With instrumentation consisting of acoustic guitar\, upright bass\, fiddle\, mandolin\, and pedal steel\, the band’s live performance plays fast and loose with the “Americana” genre\, performing heartfelt ballads followed by raucous bluegrass melodies and even moments of hip hop verses.
URL:https://ocmannproperties.com/event/justin-trawick-and-the-common-good-at-fagers-island-2/
END:VEVENT
END:VCALENDAR