BEGIN:VCALENDAR
VERSION:2.0
PRODID:-//Ocean City MD Property Management - ECPv5.12.3//NONSGML v1.0//EN
CALSCALE:GREGORIAN
METHOD:PUBLISH
X-WR-CALNAME:Ocean City MD Property Management
X-ORIGINAL-URL:https://ocmannproperties.com
X-WR-CALDESC:Events for Ocean City MD Property Management
BEGIN:VTIMEZONE
TZID:America/New_York
BEGIN:DAYLIGHT
TZOFFSETFROM:-0500
TZOFFSETTO:-0400
TZNAME:EDT
DTSTART:20180311T070000
END:DAYLIGHT
BEGIN:STANDARD
TZOFFSETFROM:-0400
TZOFFSETTO:-0500
TZNAME:EST
DTSTART:20181104T060000
END:STANDARD
END:VTIMEZONE
BEGIN:VEVENT
DTSTART;TZID=America/New_York:20180529T220000
DTEND;TZID=America/New_York:20180529T220000
DTSTAMP:20260424T122228
CREATED:20180525T085829Z
LAST-MODIFIED:20180525T085829Z
UID:2093420-1527631200-1527631200@ocmannproperties.com
SUMMARY:Karaoke with DJ Wood
DESCRIPTION:It’s time for you to take the mic;have fun with karaoke with DJ Wood at The Original Greene Turtle! \n\n\n$8 Bacardi Buckets and $3 Fireball at 10pm
URL:https://ocmannproperties.com/event/karaoke-with-dj-wood-3/
END:VEVENT
END:VCALENDAR