BEGIN:VCALENDAR
VERSION:2.0
PRODID:-//Ocean City MD Property Management - ECPv5.12.3//NONSGML v1.0//EN
CALSCALE:GREGORIAN
METHOD:PUBLISH
X-WR-CALNAME:Ocean City MD Property Management
X-ORIGINAL-URL:https://ocmannproperties.com
X-WR-CALDESC:Events for Ocean City MD Property Management
BEGIN:VTIMEZONE
TZID:America/New_York
BEGIN:DAYLIGHT
TZOFFSETFROM:-0500
TZOFFSETTO:-0400
TZNAME:EDT
DTSTART:20180311T070000
END:DAYLIGHT
BEGIN:STANDARD
TZOFFSETFROM:-0400
TZOFFSETTO:-0500
TZNAME:EST
DTSTART:20181104T060000
END:STANDARD
END:VTIMEZONE
BEGIN:VEVENT
DTSTART;TZID=America/New_York:20180426T163000
DTEND;TZID=America/New_York:20180426T190000
DTSTAMP:20260424T172346
CREATED:20180426T205847Z
LAST-MODIFIED:20180426T205847Z
UID:2089777-1524760200-1524769200@ocmannproperties.com
SUMMARY:Keagan & Mickey Justice
DESCRIPTION:Enjoy some folk and bluegrass music tonight from father and son duo; Keagan and Mickey Justice plus order a nice plate of Jambalaya for only $10! 
URL:https://ocmannproperties.com/event/keagan-mickey-justice-4/
END:VEVENT
END:VCALENDAR