BEGIN:VCALENDAR
VERSION:2.0
PRODID:-//Ocean City MD Property Management - ECPv5.12.3//NONSGML v1.0//EN
CALSCALE:GREGORIAN
METHOD:PUBLISH
X-WR-CALNAME:Ocean City MD Property Management
X-ORIGINAL-URL:https://ocmannproperties.com
X-WR-CALDESC:Events for Ocean City MD Property Management
BEGIN:VTIMEZONE
TZID:America/New_York
BEGIN:DAYLIGHT
TZOFFSETFROM:-0500
TZOFFSETTO:-0400
TZNAME:EDT
DTSTART:20170312T070000
END:DAYLIGHT
BEGIN:STANDARD
TZOFFSETFROM:-0400
TZOFFSETTO:-0500
TZNAME:EST
DTSTART:20171105T060000
END:STANDARD
END:VTIMEZONE
BEGIN:VEVENT
DTSTART;TZID=America/New_York:20170907T160000
DTEND;TZID=America/New_York:20170907T200000
DTSTAMP:20260425T065003
CREATED:20170907T205900Z
LAST-MODIFIED:20170907T205900Z
UID:2089313-1504800000-1504814400@ocmannproperties.com
SUMMARY:Kevin Poole at Coconuts Beach Bar & Grill
DESCRIPTION:Kevin has been playing music professionally in Ocean City\, MD since 1993.  Kevin recorded his first album\, Going Home\, in 1996\, a mix of tempos and styles. Kevin’s second album Troubador was released in 2001. Troubador is a very layered and meticulously recorded CD created with a large band and encompassing many musical styles. In 2006 Kevin’s third album\, Scenic Route was released. Scenic Route is a fun lighthearted CD with an eclectic mix of originals and covers\, including covers of the Beatles\, Elvis Costello\, The Church and more. Originals such as A.D.D.\, Stairway to Kevin\, King Midas\, and the crowd favorite\, Redneck Nascar Honey\, which has received a lot of airplay in the Maryland/Delaware area. 
URL:https://ocmannproperties.com/event/kevin-poole-at-coconuts-beach-bar-grill-4/
END:VEVENT
END:VCALENDAR