BEGIN:VCALENDAR
VERSION:2.0
PRODID:-//Ocean City MD Property Management - ECPv5.12.3//NONSGML v1.0//EN
CALSCALE:GREGORIAN
METHOD:PUBLISH
X-WR-CALNAME:Ocean City MD Property Management
X-ORIGINAL-URL:https://ocmannproperties.com
X-WR-CALDESC:Events for Ocean City MD Property Management
BEGIN:VTIMEZONE
TZID:America/New_York
BEGIN:DAYLIGHT
TZOFFSETFROM:-0500
TZOFFSETTO:-0400
TZNAME:EDT
DTSTART:20180311T070000
END:DAYLIGHT
BEGIN:STANDARD
TZOFFSETFROM:-0400
TZOFFSETTO:-0500
TZNAME:EST
DTSTART:20181104T060000
END:STANDARD
END:VTIMEZONE
BEGIN:VEVENT
DTSTART;TZID=America/New_York:20181129T130000
DTEND;TZID=America/New_York:20181129T140000
DTSTAMP:20260423T235801
CREATED:20181129T123934Z
LAST-MODIFIED:20181129T123934Z
UID:2093878-1543496400-1543500000@ocmannproperties.com
SUMMARY:Ladies Night
DESCRIPTION:Thursday night is Ladies Night at Mad Fish\nwith $50 off all wine and 25% off all food \n \n 
URL:https://ocmannproperties.com/event/ladies-night-4/
END:VEVENT
END:VCALENDAR