BEGIN:VCALENDAR
VERSION:2.0
PRODID:-//Ocean City MD Property Management - ECPv5.12.3//NONSGML v1.0//EN
CALSCALE:GREGORIAN
METHOD:PUBLISH
X-WR-CALNAME:Ocean City MD Property Management
X-ORIGINAL-URL:https://ocmannproperties.com
X-WR-CALDESC:Events for Ocean City MD Property Management
BEGIN:VTIMEZONE
TZID:America/New_York
BEGIN:DAYLIGHT
TZOFFSETFROM:-0500
TZOFFSETTO:-0400
TZNAME:EDT
DTSTART:20170312T070000
END:DAYLIGHT
BEGIN:STANDARD
TZOFFSETFROM:-0400
TZOFFSETTO:-0500
TZNAME:EST
DTSTART:20171105T060000
END:STANDARD
END:VTIMEZONE
BEGIN:VEVENT
DTSTART;TZID=America/New_York:20170521T160000
DTEND;TZID=America/New_York:20170521T200000
DTSTAMP:20260425T121027
CREATED:20170521T085902Z
LAST-MODIFIED:20170521T085902Z
UID:2089072-1495382400-1495396800@ocmannproperties.com
SUMMARY:Lauren Glick Band
DESCRIPTION:Lauren Glick can deliver just about any style of music\, but she is known as the “Janis Joplin” of the beach. Lauren sings from the heart and soul\, giving it all she’s got. On the other side of the spectrum\, her original music is influenced by Tori Amos\, Kate Bush\, Sara McLaughlin\, and Amy Mann.\n 
URL:https://ocmannproperties.com/event/lauren-glick-band/
END:VEVENT
END:VCALENDAR