BEGIN:VCALENDAR
VERSION:2.0
PRODID:-//Ocean City MD Property Management - ECPv5.12.3//NONSGML v1.0//EN
CALSCALE:GREGORIAN
METHOD:PUBLISH
X-WR-CALNAME:Ocean City MD Property Management
X-ORIGINAL-URL:https://ocmannproperties.com
X-WR-CALDESC:Events for Ocean City MD Property Management
BEGIN:VTIMEZONE
TZID:America/New_York
BEGIN:DAYLIGHT
TZOFFSETFROM:-0500
TZOFFSETTO:-0400
TZNAME:EDT
DTSTART:20170312T070000
END:DAYLIGHT
BEGIN:STANDARD
TZOFFSETFROM:-0400
TZOFFSETTO:-0500
TZNAME:EST
DTSTART:20171105T060000
END:STANDARD
END:VTIMEZONE
BEGIN:VEVENT
DTSTART;TZID=America/New_York:20170826T000000
DTEND;TZID=America/New_York:20170826T000000
DTSTAMP:20260425T083941
CREATED:20170826T085835Z
LAST-MODIFIED:20170826T085835Z
UID:2089288-1503705600-1503705600@ocmannproperties.com
SUMMARY:Lennon LaRicci and the Leftovers
DESCRIPTION:Catch Lennon LaRicci and the Leftovers at Micky Fins!  
URL:https://ocmannproperties.com/event/lennon-laricci-and-the-leftovers-15/
END:VEVENT
END:VCALENDAR