BEGIN:VCALENDAR
VERSION:2.0
PRODID:-//Ocean City MD Property Management - ECPv5.12.3//NONSGML v1.0//EN
CALSCALE:GREGORIAN
METHOD:PUBLISH
X-WR-CALNAME:Ocean City MD Property Management
X-ORIGINAL-URL:https://ocmannproperties.com
X-WR-CALDESC:Events for Ocean City MD Property Management
BEGIN:VTIMEZONE
TZID:America/New_York
BEGIN:DAYLIGHT
TZOFFSETFROM:-0500
TZOFFSETTO:-0400
TZNAME:EDT
DTSTART:20200308T070000
END:DAYLIGHT
BEGIN:STANDARD
TZOFFSETFROM:-0400
TZOFFSETTO:-0500
TZNAME:EST
DTSTART:20201101T060000
END:STANDARD
END:VTIMEZONE
BEGIN:VEVENT
DTSTART;TZID=America/New_York:20200413T103000
DTEND;TZID=America/New_York:20200413T110000
DTSTAMP:20260422T212745
CREATED:20200413T085919Z
LAST-MODIFIED:20200413T085919Z
UID:2094903-1586773800-1586775600@ocmannproperties.com
SUMMARY:Little Learners Program
DESCRIPTION:Little Learners program children will learn about local history and wildlife through story time\, crafts\, live animal encounters and hands on activities. \n \nAdmission: \n$5.00 for Adults; Free for children ages 6 and under!\n \nLittle Learners Program is held every 2nd and 4th Mondays of the month\, excluding holidays.
URL:https://ocmannproperties.com/event/little-learners-program-26/
END:VEVENT
END:VCALENDAR