BEGIN:VCALENDAR
VERSION:2.0
PRODID:-//Ocean City MD Property Management - ECPv5.12.3//NONSGML v1.0//EN
CALSCALE:GREGORIAN
METHOD:PUBLISH
X-WR-CALNAME:Ocean City MD Property Management
X-ORIGINAL-URL:https://ocmannproperties.com
X-WR-CALDESC:Events for Ocean City MD Property Management
BEGIN:VTIMEZONE
TZID:America/New_York
BEGIN:DAYLIGHT
TZOFFSETFROM:-0500
TZOFFSETTO:-0400
TZNAME:EDT
DTSTART:20220313T070000
END:DAYLIGHT
BEGIN:STANDARD
TZOFFSETFROM:-0400
TZOFFSETTO:-0500
TZNAME:EST
DTSTART:20221106T060000
END:STANDARD
END:VTIMEZONE
BEGIN:VEVENT
DTSTART;TZID=America/New_York:20220411T103000
DTEND;TZID=America/New_York:20220411T113000
DTSTAMP:20260424T093949
CREATED:20220411T210626Z
LAST-MODIFIED:20220411T210626Z
UID:2097181-1649673000-1649676600@ocmannproperties.com
SUMMARY:Little Learners Program
DESCRIPTION:Join us and get in the groove with our special guest Music Teacher Ms. Joanna Cross! Little Learners who attend\, will get to play different instruments all while harmonizing to the song Frosty the Snow Man! We will follow up our music session with assembling a winter wonderland craft.  This program is designed for children ages 0 to 5 years of age\, but all are welcome.
URL:https://ocmannproperties.com/event/little-learners-program-71/
END:VEVENT
END:VCALENDAR